BEGIN:VCALENDAR
VERSION:2.0
PRODID:-//openehr.org - ECPv6.15.20//NONSGML v1.0//EN
CALSCALE:GREGORIAN
METHOD:PUBLISH
X-WR-CALNAME:openehr.org
X-ORIGINAL-URL:https://openehr.org
X-WR-CALDESC:Events for openehr.org
REFRESH-INTERVAL;VALUE=DURATION:PT1H
X-Robots-Tag:noindex
X-PUBLISHED-TTL:PT1H
BEGIN:VTIMEZONE
TZID:Europe/London
BEGIN:DAYLIGHT
TZOFFSETFROM:+0000
TZOFFSETTO:+0100
TZNAME:BST
DTSTART:20240331T010000
END:DAYLIGHT
BEGIN:STANDARD
TZOFFSETFROM:+0100
TZOFFSETTO:+0000
TZNAME:GMT
DTSTART:20241027T010000
END:STANDARD
BEGIN:DAYLIGHT
TZOFFSETFROM:+0000
TZOFFSETTO:+0100
TZNAME:BST
DTSTART:20250330T010000
END:DAYLIGHT
BEGIN:STANDARD
TZOFFSETFROM:+0100
TZOFFSETTO:+0000
TZNAME:GMT
DTSTART:20251026T010000
END:STANDARD
BEGIN:DAYLIGHT
TZOFFSETFROM:+0000
TZOFFSETTO:+0100
TZNAME:BST
DTSTART:20260329T010000
END:DAYLIGHT
BEGIN:STANDARD
TZOFFSETFROM:+0100
TZOFFSETTO:+0000
TZNAME:GMT
DTSTART:20261025T010000
END:STANDARD
END:VTIMEZONE
BEGIN:VTIMEZONE
TZID:Europe/Madrid
BEGIN:DAYLIGHT
TZOFFSETFROM:+0100
TZOFFSETTO:+0200
TZNAME:CEST
DTSTART:20240331T010000
END:DAYLIGHT
BEGIN:STANDARD
TZOFFSETFROM:+0200
TZOFFSETTO:+0100
TZNAME:CET
DTSTART:20241027T010000
END:STANDARD
BEGIN:DAYLIGHT
TZOFFSETFROM:+0100
TZOFFSETTO:+0200
TZNAME:CEST
DTSTART:20250330T010000
END:DAYLIGHT
BEGIN:STANDARD
TZOFFSETFROM:+0200
TZOFFSETTO:+0100
TZNAME:CET
DTSTART:20251026T010000
END:STANDARD
BEGIN:DAYLIGHT
TZOFFSETFROM:+0100
TZOFFSETTO:+0200
TZNAME:CEST
DTSTART:20260329T010000
END:DAYLIGHT
BEGIN:STANDARD
TZOFFSETFROM:+0200
TZOFFSETTO:+0100
TZNAME:CET
DTSTART:20261025T010000
END:STANDARD
END:VTIMEZONE
BEGIN:VEVENT
DTSTART;TZID=Europe/London:20250227T100000
DTEND;TZID=Europe/London:20250227T104500
DTSTAMP:20260422T180248
CREATED:20250128T202924Z
LAST-MODIFIED:20250129T105321Z
UID:6860-1740650400-1740653100@openehr.org
SUMMARY:Webinar: Morning insights with The Christie NHS Foundation Trust
DESCRIPTION:The Christie NHS Foundation Trust\, Europe’s largest single-site cancer centre\, is transforming its healthcare delivery and modernising its Electronic Health Record (EHR) system. Join the webinar to learn how\, by integrating a legacy EHR with a digital health platform using open standards\, they are advancing research\, ensuring interoperability\, and delivering patient-centred care.\n \nFeatured speakers\n\n\n\n\n\n\n\n\nAlistair Reid-Pearson \nChief Information Officer\, The Christie NHS Foundation Trust \n\n\nAlistair Reid-Pearson the Chief Information Officer at The Christie NHS Foundation Trust and CIO Product Director for the Greater Manchester Care Record. With over 20 years of experience in leadership roles across higher education and the NHS\, he specialises in IT service management\, strategy\, and operations. An MBA graduate and Fellow of the Chartered Management Institute\, he is also a qualified coach\, mentor\, and project manager. \n\n\n\n\n\n\n\n\nBrian Murray \nSales Director\, Better UK & Ireland \n\n\nBrian Murray is the Sales Director at Better UK & Ireland. Passionate about improving health and care by simplifying the work of care teams and accelerating digital transformation underpinned by data for life\, he has over 15 years of experience leading sales teams and delivering innovative digital solutions to the healthcare sector. His main focus is interoperability\, low-code platforms\, and clinical data repositories.
URL:https://openehr.org/event/webinar-morning-insights-with-the-christie-nhs-foundation-trust/
END:VEVENT
BEGIN:VEVENT
DTSTART;TZID=Europe/London:20250220T100000
DTEND;TZID=Europe/London:20250220T104500
DTSTAMP:20260422T180248
CREATED:20250129T104422Z
LAST-MODIFIED:20250129T105228Z
UID:6871-1740045600-1740048300@openehr.org
SUMMARY:Webinar series: Better morning insights with Basel University Hospital
DESCRIPTION:Join the webinar\, where the University Hospital Basel will share their journey to becoming a data-driven hospital\, shifting away from traditional\, siloed systems to a platform-based\, data-centric model. Through the adoption of the Postmodern EHR and openEHR standard\, the hospital is revolutionising healthcare with interoperability and data quality at its core. \nFeatured speakers\n  \n\n\n\n\n\n\n\n\nBram Stieltjes \nHead of Research and Analytic Services at the Department of Radiology\, Universitätsspital Basel \n\n\nA medical doctor by training\, Bram Stieltjes currently heads the Personalised Health department at Universitätsspital Basel. He holds a PhD in image analysis and is an international expert in translational imaging\, particularly diffusion MRI. He has extensive experience integrating data across clinical and research contexts\, building a strong reputation in Swiss hospital data-sharing initiatives and advancing trans-European collaborations. \n\n\n\n\n\n\n\n\n\nDr Amanda Herbrand \nClinical Data Specialist\, Universitätsspital Basel \n\n\nA Clinical Data Specialist at the University Hospital Basel with a background in physics and medicine\, Amanda focuses on clinical data modeling with openEHR. As a former oncologist\, she combines her expertise in data-driven healthcare and clinical workflows to advance interoperability and sustainability in hospital systems\, aiming to build a data-driven hospital environment.
URL:https://openehr.org/event/webinar-series-better-morning-insights-with-basel-university-hospital/
END:VEVENT
BEGIN:VEVENT
DTSTART;TZID=Europe/Madrid:20250218T100000
DTEND;TZID=Europe/Madrid:20250218T160000
DTSTAMP:20260422T180248
CREATED:20241210T171646Z
LAST-MODIFIED:20241210T171901Z
UID:4754-1739872800-1739894400@openehr.org
SUMMARY:vitagroup HIP Summit
DESCRIPTION:➡️ Top speakers and visionary talks \n➡️ Networking with industry pioneers and leading professionals \n➡️ Impressive success stories and actionable insights\n➡️ Hands-on workshops covering state-of-the-art use cases in exclusive VIP lounges\n➡️ vitagroup’s Health Intelligence Platform and the future health & care delivery\n➡️ Experience a cutting-edge event at SAP Garden\, one of Europe’s most modern multifunctional arenas \n⚠️ Due to limited seats\, participation is by invitation only.
URL:https://openehr.org/event/vitagroup-hip-summit/
LOCATION:SAP Garden Event Area\, oni-Merkens-Weg 4\, Munich\, 80809\, Germany
END:VEVENT
BEGIN:VEVENT
DTSTART;TZID=Europe/London:20250206T100000
DTEND;TZID=Europe/London:20250206T104500
DTSTAMP:20260422T180248
CREATED:20250129T101750Z
LAST-MODIFIED:20250129T105148Z
UID:6868-1738836000-1738838700@openehr.org
SUMMARY:Webinar series: Better Morning insights with Karolinska University Hospital
DESCRIPTION:Join the webinar where one of Europe’s leading healthcare institutions will share their transformative journey towards a data-driven healthcare and research institution. With good data being the foundation for effective decision-making\, the hospital is moving away from an application-centric approach to a data-centric model with openEHR at the core. \nFeatured speakers\n\n\n\n\n\n\n\n\n\nPatrik Georgii-Hemming \nMSci\, MD\, PhD\, Chief Medical Information Officer\, Karolinska University Hospital \n\n\nPatrik Georgii-Hemming is the Chief Medical Information Officer at Karolinska University Hospital. As a physician\, he specialised in Clinical Genetics\, and he also has a Master’s Degree in Computer Science. \n\n\n\n\n\n\n\n\n\nTomaž Gornik \nCEO and founder of Better\, Co-chair of openEHR International \n\n\nTomaž Gornik is the CEO and founder of Better and a co-chair of openEHR International. He is an experienced manager of teams building world-class software products for more than 30 years and has a proven track record of delivering innovative turn-key solutions for large clients in healthcare\, telecommunications\, and finance. He is always challenging teams to build better software using state-of-the-art technology\, architectures\, and processes\, and has a good understanding of software platforms\, architecture\, deployment\, and business models.
URL:https://openehr.org/event/webinar-series-better-morning-insights-morning-insights-with-karolinska-university-hospital/
END:VEVENT
BEGIN:VEVENT
DTSTART;TZID=Europe/Madrid:20250131T093000
DTEND;TZID=Europe/Madrid:20250131T160000
DTSTAMP:20260422T180248
CREATED:20241210T170240Z
LAST-MODIFIED:20241210T172507Z
UID:4749-1738315800-1738339200@openehr.org
SUMMARY:HiGHmed Symposium: openEHR in Digital Health
DESCRIPTION:Don’t miss out—register now for the HiGHmed Symposium 2025!\nThis year’s theme\, “openEHR in Digital Health — MEETING TODAY’S NEEDS\, DRIVING TOMORROW’S INNOVATIONS”\nJoin leading global experts from medical research\, care and Industry for insightful discussions regarding success stories\, challenges and business opportunities. Explore how digital health is evolving with support by openEHR. \nRegistration is now open—secure your spot today! \nTitel: HiGHmed-Symposium 2025: OpenEHR in Digital Health — MEETING TODAY’S NEEDS\, DRIVING TOMORROW’S INNOVATIONS \nDate: Friday\, January 31.\, 2025\, 09:30 – 16:00 \nLocation: Kaiserin-Friedrich-Stiftung für das ärztliche Fortbildungswesen\, Robert-Koch-Platz 7\, 10115 Berlin \nYou can now register for the event here: \nRegister now \nParticipation is free of charge. Registration is required\, the number of places is limited.
URL:https://openehr.org/event/highmed-symposium-openehr-in-digital-health/
LOCATION:Kaiserin-Friedrich-Stiftung für das ärztliche Fortbildungswesen\, Robert-Koch-Platz 7\, Berlin\, Germany
END:VEVENT
BEGIN:VEVENT
DTSTART;TZID=Europe/London:20250130T100000
DTEND;TZID=Europe/London:20250130T104500
DTSTAMP:20260422T180248
CREATED:20250129T101051Z
LAST-MODIFIED:20250129T105054Z
UID:6865-1738231200-1738233900@openehr.org
SUMMARY:Webinar series: Better morning insights - The vision of Postmodern EHR with Tomaž Gornik
DESCRIPTION:Join the Postmodern EHR visionary Tomaž Gornik as he will explain how this hybrid approach that combines legacy systems with an ecosystem of applications built on a digital health platform is revolutionising healthcare IT through interoperability\, open standards\, and data-centric innovation. \n\n\nFeatured speakers\n\n\n\n\n\n\nTomaž Gornik \nCEO and founder of Better\, Co-chair of openEHR International \n\n\nTomaž Gornik is the CEO and founder of Better and a co-chair of openEHR International. He is an experienced manager of teams building world-class software products for more than 30 years and has a proven track record of delivering innovative turn-key solutions for large clients in healthcare\, telecommunications\, and finance. He is always challenging teams to build better software using state-of-the-art technology\, architectures\, and processes\, and has a good understanding of software platforms\, architecture\, deployment\, and business models. \n\n\n\n\n\n\n\n\nBrian Murray \nSales Director\, Better UK & Ireland \n\n\nBrian Murray is the Sales Director at Better UK & Ireland. Passionate about improving health and care by simplifying the work of care teams and accelerating digital transformation underpinned by data for life\, he has over 15 years of experience leading sales teams and delivering innovative digital solutions to the healthcare sector. His main focus is interoperability\, low-code platforms\, and clinical data repositories.
URL:https://openehr.org/event/webinar-series-better-morning-insights-the-vision-of-postmodern-ehr-with-tomaz-gornik/
END:VEVENT
BEGIN:VEVENT
DTSTART;TZID=Europe/Madrid:20250128T113000
DTEND;TZID=Europe/Madrid:20250130T143000
DTSTAMP:20260422T180248
CREATED:20250123T125810Z
LAST-MODIFIED:20250123T125810Z
UID:6554-1738063800-1738247400@openehr.org
SUMMARY:Transforming Healthcare Together @ ICT Health World Conference
DESCRIPTION:Tuesday January 28th \n11.30 – 12.10 \nHL7 FHIR and openEHR communities collaborate towards better data availability\nIgor Schoonbrood (Maastricht UMC+)\nRachel Dunscombe (openEHR International)\nRien Wertheim (Firely)\nStefan Schraps (openEHR International) \n12.25 – 13.05\nWhat can we learn from UCP and RSO Zuid-Limburg\nOneLondon Blueprint for Advanced Care Plan (UCP): speed\, scale and governance insights\nPhil Koczan (NHS England\, UCP Programme Clinical Lead)\nWim Eurlings (RSO Zuid-Limburg) \n13.45 – 14.25\nAI and openEHR\nFuture Directions of Cognitive Architectures in Health\nErik Vermeulen (EY)\nopenEHR and structured data as a fuel for clinical AI tools\nMika Kiviaho (Tietoevry Care) \n14.45 – 15.25\nTowards Sustainable Integration of the Electronic Health Record: a Crosswalk between #openEHR\, #FHIR and #OMOP\nSeverin Kohler (Charité – Universitätsmedizin Berlin)\nGasper Andrejc (Open Line) \nWednesday January 29th \n11.30 – 12.10\nopenEHR and Lowcode\, a winning combination\nMartin van der Meer (CODE24)\nBouwe Koopal (Maarsingh & van Steijn)\nHans Canisius (USoft) \n12.25 – 13.05\nWhat can we learn from the Nordics?\nopenEHR and Lifecare EHR: Transforming Finnish Wellbeing County\nTeemu Mäkelä (Päljet-Häme Wellbeing Services County) \nRegional data platforms: Helsinki University Hospital’s premier data and AI platform powering data-driven care of the top level hospital\nTeemu Vähäkainu (Tietoevry Care) \n13.45 – 14.25\nWhat can we learn from Jamaica and Switzerland? \nBuilding the foundations for a sustainable and interoperable digital health ecosystem: the role of openEHR in Jamaica’s healthcare transformation\nKeisha Barwise (The Ministry of Health & Wellness\, Jamaica)\nJohannes Schmidt Universitätsspital Basel (Better) \n14.45 – 15.35\nTowards the Third Generation EHR\nJordi Piera Jiménez (Sistema de Salut de Catalunya) \nThursday January 30th \n11.30 – 12.10\nVendor Neutrality in Action: Open Platforms & SMART\nSebastian Iancu (CODE24)\nStefan Schraps (vitagroup)\nSidharth Ramesh (Medblocks) \n12.25 – 13.05\nEmpowering nurses in Finland: Building an Open Healthcare System\nHow openEHR and global nursing standards can help create stronger\, more efficient open healthcare systems\, improving patient care and addressing the nursing shortage in Europe.\nSofia Kauppila (Tietoevry Care) \n13.45 – 14.25\nModelling the Health Data Space \nFrom national information models to international cooperation and governance\nWouter Zanen (Nictiz)\nGerda Meijboom-Cruiming (Nictiz)\nVebjørn Arntzen (CKA Lead openEHR international)
URL:https://openehr.org/event/transforming-healthcare-together-ict-health-world-conference/
LOCATION:MECC Maastricht\, Forum 100\, 6229 GV\, Maastricht\, Netherlands
END:VEVENT
BEGIN:VEVENT
DTSTART;TZID=Europe/London:20250127T000000
DTEND;TZID=Europe/London:20250131T235959
DTSTAMP:20260422T180248
CREATED:20250116T100250Z
LAST-MODIFIED:20250116T100348Z
UID:6391-1737936000-1738367999@openehr.org
SUMMARY:Athens Digital Health Week 2025
DESCRIPTION:Athens Digital Health Week 2025 – ADHW2025 is co-organised by IDIKA S.A. – the Hellenic eGovernment Center for Social Security Services and the National eHealth Authority (NeHA) of Cyprus and is hosted in Athens by HL7 Hellas. A wide range of events covering many topics of digital health in Europe and beyond are also hosted during ADHW2025 rendering it into a high-profile networking event of digital health innovators in Europe. \ne-Health governance bodies as well as several European projects are brought together in one venue to interconnect\, share outcomes and discuss further steps towards adopting and implementing digital technology in healthcare in Europe.
URL:https://openehr.org/event/athens-digital-health-week-2025/
END:VEVENT
BEGIN:VEVENT
DTSTART;TZID=Europe/London:20250115T000000
DTEND;TZID=Europe/London:20250116T235959
DTSTAMP:20260422T180248
CREATED:20250116T095943Z
LAST-MODIFIED:20250116T095943Z
UID:6388-1736899200-1737071999@openehr.org
SUMMARY:HSE Technology and Transformation - eHealth Ireland Conference
DESCRIPTION:
URL:https://openehr.org/event/hse-technology-and-transformation-ehealth-ireland-conference/
LOCATION:Dublin\, Ireland
END:VEVENT
END:VCALENDAR